BEGIN:VCALENDAR
VERSION:2.0
PRODID:-//ChamberMaster//Event Calendar 2.0//EN
METHOD:PUBLISH
X-PUBLISHED-TTL:P3D
REFRESH-INTERVAL:P3D
CALSCALE:GREGORIAN
BEGIN:VEVENT
DTSTART:20131023T210000Z
DTEND:20131023T230000Z
X-MICROSOFT-CDO-ALLDAYEVENT:FALSE
SUMMARY:VBA MIXER- JAMMIN JAVA!!!
DESCRIPTION:JOIN THE VBA AT JAMMIN JAVA\, @ 5PM FOR OUT MONTHLY MIXER!!!  HELP US GET RAMPED UP FOR THE PARADE\, MEET YOUR NEIGHBORS\, AND GET YOUR COMMUNITY SPIRIT ON!!!!\n\n\n\nVBA MEMBERS: GET YOUR COSTUMES ON AND BRING YOUR COMMUNITY YEE HA!  COME ON OUT AND WALK WITH THE VBA FLOAT DOWN THE VIENNA STRIP!!
X-ALT-DESC;FMTTYPE=text/html:JOIN THE VBA AT JAMMIN JAVA\, @ 5PM FOR OUT MONTHLY MIXER!!!&nbsp\; HELP US GET RAMPED UP FOR THE PARADE\, MEET YOUR NEIGHBORS\, AND GET YOUR COMMUNITY SPIRIT ON!!!!<br />\n<br />\nVBA MEMBERS: GET YOUR COSTUMES ON AND BRING YOUR COMMUNITY YEE HA!&nbsp\; COME ON OUT AND WALK WITH THE VBA FLOAT DOWN THE VIENNA STRIP!!&nbsp\; 
LOCATION:STARTS AT JAMMIN JAVA\, 227 MAPLE AVE EAST!
UID:e.9111.13
SEQUENCE:3
DTSTAMP:20260419T170329Z
URL:http://viennabusiness.memberzone.com/events/details/vba-mixer-jammin-java-10-23-2013-13
END:VEVENT

END:VCALENDAR
