BEGIN:VCALENDAR
VERSION:2.0
PRODID:-//ChamberMaster//Event Calendar 2.0//EN
METHOD:PUBLISH
X-PUBLISHED-TTL:P3D
REFRESH-INTERVAL:P3D
CALSCALE:GREGORIAN
BEGIN:VEVENT
DTSTART:20130913T123000Z
DTEND:20130913T140000Z
X-MICROSOFT-CDO-ALLDAYEVENT:FALSE
SUMMARY:VBA BREAKFAST MEETING! Maximize YOUR Business on the VBA Website!
DESCRIPTION:Join us for Breakfast\, Knowledge and Networking!\n\n\n\nTopic: Using the VBA Member Module!   Learn how to maximize YOUR business visibility on the VBA website and Facebook!!!   The member website is up and running\, and just waiting for YOU to post your business information\, pictures\, videos\, specials\, jobs opening and more!\n\n\n\nSpeaker: Peggy James\, of the Artful Gift Shop and the Vienna Business Association!\n\n\n\nSponsorship Tables:\n\n\n\nArgent Heating and Cooling\n\nand\n\nArtful Gift Shop
X-ALT-DESC;FMTTYPE=text/html:<span style="font-family: times new roman\;"><span style="font-size: 14px\;"><strong>Join us for Breakfast\, Knowledge and Networking!</strong></span><br />\n<br />\n<span style="font-size: 14px\;">Topic: Using the VBA Member Module!&nbsp\;&nbsp\; Learn how to maximize YOUR business visibility on the VBA website and Facebook!!!&nbsp\;&nbsp\; The member website is up and running\, and just waiting for YOU to post your business information\, pictures\, videos\, specials\, jobs opening and more!<br />\n<br />\nSpeaker: Peggy James\, of the Artful Gift Shop and the Vienna Business Association!</span></span><br />\n<br />\n<strong><span style="font-size: 14px\;">Sponsorship Tables:</span></strong><br />\n<br />\n<em><span style="font-size: 14px\;"><span style="font-family: times new roman\;"><strong>Argent Heating and Cooling</strong><br />\nand<br />\n<strong>Artful Gift Shop</strong></span></span></em>
LOCATION:American Legion Hall 330 North Center Street Vienna
UID:e.9111.4
SEQUENCE:3
DTSTAMP:20260419T170631Z
URL:http://viennabusiness.memberzone.com/events/details/vba-breakfast-meeting-maximize-your-business-on-the-vba-website-09-13-2013-4
END:VEVENT

END:VCALENDAR
