BEGIN:VCALENDAR
VERSION:2.0
PRODID:-//ChamberMaster//Event Calendar 2.0//EN
METHOD:PUBLISH
X-PUBLISHED-TTL:P3D
REFRESH-INTERVAL:P3D
CALSCALE:GREGORIAN
BEGIN:VEVENT
DTSTART:20131108T133000Z
DTEND:20131108T150000Z
X-MICROSOFT-CDO-ALLDAYEVENT:FALSE
SUMMARY:VBA BREAKFAST MEETING!
DESCRIPTION:Join us for Breakfast\, Knowledge and Networking!\n\n\n\nTopic: Networking 101\n\nSpeaker: Karen McKinney\n\nSponsorship Tables:\n\n\n\nAmeriprise Financial\n\nUrban Mattress\n\n\n\nPlease RSVP to: RSVP@ViennaBusinessness.org
X-ALT-DESC;FMTTYPE=text/html:<span style="font-family: times new roman\;"><span style="font-size: 14px\;"><strong>Join us for Breakfast\, Knowledge and Networking!</strong></span><br />\n<br />\n<span style="font-size: 14px\;">Topic: Networking 101<br />\nSpeaker: Karen McKinney</span></span><br />\n<strong><span style="font-size: 14px\;">Sponsorship Tables:</span></strong><br />\n<br />\n<em><span style="font-size: 14px\;"><span style="font-family: times new roman\;"><strong>Ameriprise Financial<br />\nUrban Mattress</strong></span></span></em><br />\n<br />\nPlease RSVP to: RSVP@ViennaBusinessness.org
LOCATION:American Legion Hall 330 North Center Street Vienna
UID:e.9111.18
SEQUENCE:3
DTSTAMP:20260419T115303Z
URL:http://viennabusiness.memberzone.com/events/details/vba-breakfast-meeting-11-08-2013-18
END:VEVENT

END:VCALENDAR
