BEGIN:VCALENDAR
VERSION:2.0
PRODID:-//ChamberMaster//Event Calendar 2.0//EN
METHOD:PUBLISH
X-PUBLISHED-TTL:P3D
REFRESH-INTERVAL:P3D
CALSCALE:GREGORIAN
BEGIN:VEVENT
DTSTART:20140110T133000Z
DTEND:20140110T150000Z
X-MICROSOFT-CDO-ALLDAYEVENT:FALSE
SUMMARY:VBA BREAKFAST MEETING!
DESCRIPTION:Join us for Breakfast\, Knowledge and Networking!\n\n\n\nTopic: "Planning A Good Exit   The steps every business owner should take now and in the future to achieve their exit goals"\n\nSpeaker: Ray Smith\, CVA\, CBB\, CBC\n\nPresident\n\nThe Novars Group\, Inc.\n\n\n\n\n\nSponsorship Tables:\n\n\n\nElements Therapeutic Massage\n\nFamily Tree Care\n\nPlease RSVP to: RSVP@ViennaBusiness.org
X-ALT-DESC;FMTTYPE=text/html:<span style="font-family: times new roman\;"><span style="font-size: 14px\;"><strong>Join us for Breakfast\, Knowledge and Networking!</strong></span><br />\n<br />\n<span style="font-size: 14px\;">Topic: <span style="color: rgb(31\, 73\, 125)\; font-family: Calibri\; font-size: 11pt\; font-style: italic\;">&ldquo\;Planning A Good Exit &ndash\; The steps every business owner should take now and in the future to achieve their exit goals&rdquo\;</span><br />\nSpeaker: </span></span><span style="font: 14.54px/normal Calibri\; color: rgb(31\, 73\, 125)\; text-transform: none\; text-indent: 0px\; letter-spacing: normal\; word-spacing: 0px\; float: none\; display: inline !important\; white-space: normal\; font-size-adjust: none\; font-stretch: normal\; background-color: rgb(255\, 255\, 255)\; -webkit-text-stroke-width: 0px\;">Ray Smith\, CVA\, CBB\, CBC<br />\n<span style="font-size: small\;"><span style="font-family: calibri\;"><span style="color: rgb(31\, 73\, 125)\;"><span style="font-size: 11pt\;"><span style="font-family: calibri\;"><span style="color: rgb(31\, 73\, 125)\;">President</span></span></span></span></span></span><br />\n<span style="font-size: small\;"><span style="font-family: calibri\;"><span style="color: rgb(31\, 73\, 125)\;"><span style="font-size: 11pt\;"><span style="font-family: calibri\;"><span style="color: rgb(31\, 73\, 125)\;">The Novars Group\, Inc.</span></span></span></span></span></span></span><br />\n<br />\n<br />\n<strong><span style="font-size: 14px\;">Sponsorship Tables:</span></strong><br />\n<br />\n<em><span style="font-size: 14px\;"><span style="font-family: times new roman\;"><strong>Elements Therapeutic Massage<br />\nFamily Tree Care</strong></span></span></em><br />\nPlease RSVP to: RSVP@ViennaBusiness.org
LOCATION:American Legion Hall 330 North Center Street Vienna
UID:e.9111.90
SEQUENCE:3
DTSTAMP:20260421T123614Z
URL:http://viennabusiness.memberzone.com/events/details/vba-breakfast-meeting-01-10-2014-90
END:VEVENT

END:VCALENDAR
