BEGIN:VCALENDAR
VERSION:2.0
PRODID:-//ChamberMaster//Event Calendar 2.0//EN
METHOD:PUBLISH
X-PUBLISHED-TTL:P3D
REFRESH-INTERVAL:P3D
CALSCALE:GREGORIAN
BEGIN:VEVENT
DTSTART:20131123T150000Z
DTEND:20131124T020000Z
X-MICROSOFT-CDO-ALLDAYEVENT:FALSE
SUMMARY:Treasury of Art Show
DESCRIPTION:Treasury of Art Show continues.  Display and Sales of all art\n\n\n\nMusic by Higher Ground String Band from 7 to 9 p.m.
X-ALT-DESC;FMTTYPE=text/html:Treasury of Art Show continues.&nbsp\; Display and Sales of all art<br />\n<br />\nMusic by Higher Ground String Band from 7 to 9 p.m.
LOCATION:Vienna Community Center
UID:e.9111.51
SEQUENCE:3
DTSTAMP:20260419T115349Z
URL:http://viennabusiness.memberzone.com/events/details/treasury-of-art-show-11-23-2013-51
END:VEVENT

END:VCALENDAR
