BEGIN:VCALENDAR
VERSION:2.0
PRODID:-//ChamberMaster//Event Calendar 2.0//EN
METHOD:PUBLISH
X-PUBLISHED-TTL:P3D
REFRESH-INTERVAL:P3D
CALSCALE:GREGORIAN
BEGIN:VEVENT
DTSTART:20131122T150000Z
DTEND:20131123T020000Z
X-MICROSOFT-CDO-ALLDAYEVENT:FALSE
SUMMARY:Treasury of Art Show
DESCRIPTION:Awards Reception is from 7 to 9 p.m. with music by the Serenada String Quartet\n\n\n\nDisplay is all day from 10 to 9
X-ALT-DESC;FMTTYPE=text/html:Awards Reception is from 7 to 9 p.m. with music by the Serenada String Quartet<br />\n<br />\nDisplay is all day from 10 to 9<br />\n
LOCATION:Vienna Community Center
UID:e.9111.50
SEQUENCE:3
DTSTAMP:20260419T115349Z
URL:http://viennabusiness.memberzone.com/events/details/treasury-of-art-show-11-22-2013-50
END:VEVENT

END:VCALENDAR
