BEGIN:VCALENDAR
VERSION:2.0
PRODID:-//ChamberMaster//Event Calendar 2.0//EN
METHOD:PUBLISH
X-PUBLISHED-TTL:P3D
REFRESH-INTERVAL:P3D
CALSCALE:GREGORIAN
BEGIN:VEVENT
DTSTART:20131202T230000Z
DTEND:20131203T020000Z
X-MICROSOFT-CDO-ALLDAYEVENT:FALSE
SUMMARY:Sip and Shop with the Artist of the Artful!
DESCRIPTION:BITES AND BEVERAGES WITH:\n	\n		 JEWELRY BY DESIGNER CATHY SOLTYS OF JOIE DE BEADS!        \n	\n		 PHOTOGRAPHY BY JAMES SWEENY!\n	\n		10% off of all items from Joie De Beads\, and James Sweeny Photography!
X-ALT-DESC;FMTTYPE=text/html:<div style="color: gray\;">\n	<p comic="" sans="">\n		<span style="font-size: 14px\;"><strong>BITES AND BEVERAGES WITH:</strong></span></p>\n	<div comic="" sans="">\n		<span style="font-size: 14px\;"><span style="font-family: comic sans ms\;">&nbsp\;JEWELRY BY DESIGNER CATHY SOLTYS OF JOIE DE BEADS!&nbsp\; &nbsp\; &nbsp\; &nbsp\;&nbsp\;</span></span></div>\n	<div comic="" sans="">\n		<span style="font-size: 14px\;"><span style="font-family: comic sans ms\;">&nbsp\;PHOTOGRAPHY BY JAMES SWEENY!</span></span></div>\n	<div comic="" sans="">\n		<span style="font-size: 14px\;"><span style="font-family: comic sans ms\;">10% off of all items from Joie De Beads\, and James Sweeny Photography!</span></span></div>\n</div>\n
LOCATION:Brightly-lit Shop at the corner of Lawyers Road and Church Street!
UID:e.9111.80
SEQUENCE:3
DTSTAMP:20260419T115439Z
URL:http://viennabusiness.memberzone.com/events/details/sip-and-shop-with-the-artist-of-the-artful-12-02-2013-80
END:VEVENT

END:VCALENDAR
