BEGIN:VCALENDAR
VERSION:2.0
PRODID:-//ChamberMaster//Event Calendar 2.0//EN
METHOD:PUBLISH
X-PUBLISHED-TTL:P3D
REFRESH-INTERVAL:P3D
CALSCALE:GREGORIAN
BEGIN:VEVENT
DTSTART;VALUE=DATE:20131209
DTEND;VALUE=DATE:20131210
TRANSP:TRANSPARENT
X-MICROSOFT-CDO-ALLDAYEVENT:TRUE
SUMMARY:Patient Appreciation Week at Total Health Concepts
DESCRIPTION:December 9 through December 14\, 2013\n\n\n\nTo express our appreciation to our wonderful patients and the local community\, we are offering a series of free events and special discounts this week!\n\nAll events take place from 12-1pm and are free and open to all:\n\nMonday 12/9 - Beginner Bootcamp Fitness\n\nTuesday 12/10 - Chair Massages and Holiday Injury Prevention Seminar\n\nWednesday 12/11 - Holiday Healthy Food Choices Workshop\n\nThursday 12/12 - Movement for Stress Relief and Relaxation\n\nFriday 12/13 - Create Your Own Natural Dryer Balls - Great Gift Idea!\n\nSpecial Discounts:\n\n20% Off New Services\n\nBuy One Get One Free for Massage\, Fitness\, and Sound Therapy sessions\n\n$30 Chiropractic Consult\n\n$299 Naturopathic Starter Kit (includes 3 sessions)
X-ALT-DESC;FMTTYPE=text/html:<br />\n<strong>December 9 through December 14\, 2013</strong><br />\n<br />\nTo express our appreciation to our wonderful patients and the local community\, we are offering a series of free events and special discounts this week!<br />\nAll events take place from 12-1pm and are free and open to all:<br />\nMonday 12/9 - Beginner Bootcamp Fitness<br />\nTuesday 12/10 - Chair Massages and Holiday Injury Prevention Seminar<br />\nWednesday 12/11 - Holiday Healthy Food Choices Workshop<br />\nThursday 12/12 - Movement for Stress Relief and Relaxation<br />\nFriday 12/13 - Create Your Own Natural Dryer Balls - Great Gift Idea!<br />\nSpecial Discounts:<br />\n20% Off New Services<br />\nBuy One Get One Free for Massage\, Fitness\, and Sound Therapy sessions<br />\n$30 Chiropractic Consult<br />\n$299 Naturopathic Starter Kit (includes 3 sessions)
LOCATION:Total Health Concepts 402 Maple Ave W\, Vienna VA 22180
UID:e.9111.87
SEQUENCE:3
DTSTAMP:20260419T115348Z
URL:http://viennabusiness.memberzone.com/events/details/patient-appreciation-week-at-total-health-concepts-12-09-2013-87
END:VEVENT

END:VCALENDAR
