BEGIN:VCALENDAR
VERSION:2.0
PRODID:-//ChamberMaster//Event Calendar 2.0//EN
METHOD:PUBLISH
X-PUBLISHED-TTL:P3D
REFRESH-INTERVAL:P3D
CALSCALE:GREGORIAN
BEGIN:VEVENT
DTSTART;VALUE=DATE:20131209
DTEND;VALUE=DATE:20131210
TRANSP:TRANSPARENT
X-MICROSOFT-CDO-ALLDAYEVENT:TRUE
SUMMARY:New & Old Patient Appreciation Week at Total Health Concepts
DESCRIPTION:Come join us for FREE noon time demos and great deals during our patient appreication week. \n\n\n\nDemos- \n\n	\n		Monday-  Join our toning and stretching class (1 hour)\n	\n		Tuesday- 15 minute chair massages\n	\n		Wednesday- Learn Healthy Food Choices for the Holidays\n	\n		Thrusday- Stress buster fitness class (1 hour)\n	\n		Friday- Create your own natural drier balls \n\n\n\nHot Deals-\n\n	\n		$30.00 Chiropractic Consult & Exams ($200.00 Saving)\n	\n		20% Off ANY new service at Total Health Concepts\n	\n		Naturalpathic Medicine Starter Pack-  $299.00 (Includes 3 visits)
X-ALT-DESC;FMTTYPE=text/html:Come join us for FREE noon time demos and great deals during our patient appreication week.&nbsp\;<br />\n<br />\nDemos-&nbsp\;\n<ul>\n	<li>\n		Monday- &nbsp\;Join our toning and stretching class (1 hour)</li>\n	<li>\n		Tuesday- 15 minute chair massages</li>\n	<li>\n		Wednesday- Learn Healthy Food Choices for the Holidays</li>\n	<li>\n		Thrusday- Stress buster fitness class (1 hour)</li>\n	<li>\n		Friday- Create your own natural drier balls&nbsp\;</li>\n</ul>\n<br />\nHot Deals-\n<ul>\n	<li>\n		$30.00&nbsp\;Chiropractic Consult &amp\; Exams ($200.00 Saving)</li>\n	<li>\n		20% Off ANY new service at Total Health Concepts</li>\n	<li>\n		Naturalpathic Medicine Starter Pack-&nbsp\;&nbsp\;$299.00 (Includes 3 visits)</li>\n</ul>\n
LOCATION:Total Health Concepts\, LLC 402 Maple Ave West Vienna VA 22180
UID:e.9111.85
SEQUENCE:3
DTSTAMP:20260419T115345Z
URL:http://viennabusiness.memberzone.com/events/details/new-old-patient-appreciation-week-at-total-health-concepts-12-09-2013-85
END:VEVENT

END:VCALENDAR
