BEGIN:VCALENDAR
VERSION:2.0
PRODID:-//ChamberMaster//Event Calendar 2.0//EN
METHOD:PUBLISH
X-PUBLISHED-TTL:P3D
REFRESH-INTERVAL:P3D
CALSCALE:GREGORIAN
BEGIN:VEVENT
DTSTART:20131018T194500Z
DTEND:20131018T234500Z
X-MICROSOFT-CDO-ALLDAYEVENT:FALSE
SUMMARY:Navy Yard Bakesale at Cuppett Performing Arts Center
DESCRIPTION:The Cuppett Dance Company is holding a\n\n	COMMUNITY BAKE SALE for NAVY YARD FAMILIES\n\n	Join us in supporting a former CPAC family who lost their father/husband in the recent Navy Yard shooting\, and all the victims of this horrible tragedy. \n\n	 \n\n	Bake Sale Dates and Times:\n\n	Friday\, October 18\, 3:45-7:45 p.m.\n\n	Saturday\, October 19\, 9:30 a.m. - 3:00 p.m.\n\n	Monday\, October 21\, 3:45-7:45 p.m.\n\n	 \n\n	Goods will be sold directly outside of the main CPAC lobby\, on the sidewalk area.\n\n	 \n\n	All bake sale proceeds will be given to the Navy Yard Tragedy Family Support Fund https://www.taps.org/navyyard/\, which will provide financial support not only to this family\, but the other 11 families affected by this tragedy. \n\n	Please help us demonstrate our support by purchasing baked goods or by simply making a cash donation at the table!\n\n	If we have goods left over\, we will extend the sale!
X-ALT-DESC;FMTTYPE=text/html:<div class="gmail_default" style="margin: 0px\; padding: 0px\; text-align: center\; font-family: arial\, sans-serif\; font-size: 13px\; position: relative\;">\n	<span face="tahoma\, sans-serif" size="4" style="margin: 0px\; padding: 0px\; font-family: tahoma\, sans-serif\; font-size: medium\;">The Cuppett Dance Company is holding a</span></div>\n<div class="gmail_default" style="margin: 0px\; padding: 0px\; text-align: center\; font-family: arial\, sans-serif\; font-size: 13px\; position: relative\;">\n	<span face="tahoma\, sans-serif" size="4" style="margin: 0px\; padding: 0px\; font-family: tahoma\, sans-serif\; font-size: large\;"><b style="margin: 0px\; padding: 0px\;">COMMUNITY BAKE SALE for NAVY YARD FAMILIES</b></span></div>\n<div class="gmail_default" style="margin: 0px\; padding: 0px\; text-align: center\; font-family: arial\, sans-serif\; font-size: 13px\; position: relative\;">\n	<span face="tahoma\, sans-serif" style="margin: 0px\; padding: 0px\; font-family: tahoma\, sans-serif\;">Join us in supporting a former CPAC family who lost their father/husband in the recent Navy Yard shooting\, and all the victims of this horrible tragedy.&nbsp\;</span></div>\n<div class="gmail_default" style="margin: 0px\; padding: 0px\; text-align: center\; font-family: arial\, sans-serif\; font-size: 13px\; position: relative\;">\n	&nbsp\;</div>\n<div class="gmail_default" style="margin: 0px\; padding: 0px\; text-align: center\; font-family: arial\, sans-serif\; font-size: 13px\; position: relative\;">\n	<span face="tahoma\, sans-serif" size="4" style="margin: 0px\; padding: 0px\; font-family: tahoma\, sans-serif\; font-size: large\;"><b style="margin: 0px\; padding: 0px\;"><span style="margin: 0px\; padding: 0px\; text-decoration: underline\;">Bake Sale Dates and Times:</span></b></span></div>\n<div class="gmail_default" style="margin: 0px\; padding: 0px\; text-align: center\; font-family: arial\, sans-serif\; font-size: 13px\; position: relative\;">\n	<span face="tahoma\, sans-serif" style="margin: 0px\; padding: 0px\; font-family: tahoma\, sans-serif\;"><b style="margin: 0px\; padding: 0px\;">Friday\, October 18\, 3:45-7:45 p.m.</b></span></div>\n<div class="gmail_default" style="margin: 0px\; padding: 0px\; text-align: center\; font-family: arial\, sans-serif\; font-size: 13px\; position: relative\;">\n	<span face="tahoma\, sans-serif" style="margin: 0px\; padding: 0px\; font-family: tahoma\, sans-serif\;"><b style="margin: 0px\; padding: 0px\;">Saturday\, October 19\, 9:30 a.m. - 3:00 p.m.</b></span></div>\n<div class="gmail_default" style="margin: 0px\; padding: 0px\; text-align: center\; font-family: arial\, sans-serif\; font-size: 13px\; position: relative\;">\n	<span face="tahoma\, sans-serif" style="margin: 0px\; padding: 0px\; font-family: tahoma\, sans-serif\;"><b style="margin: 0px\; padding: 0px\;">Monday\, October 21\, 3:45-7:45 p.m.</b></span></div>\n<div class="gmail_default" style="margin: 0px\; padding: 0px\; text-align: center\; font-family: arial\, sans-serif\; font-size: 13px\; position: relative\;">\n	&nbsp\;</div>\n<div class="gmail_default" style="margin: 0px\; padding: 0px\; text-align: center\; font-family: arial\, sans-serif\; font-size: 13px\; position: relative\;">\n	<span face="tahoma\, sans-serif" style="margin: 0px\; padding: 0px\; font-family: tahoma\, sans-serif\;">Goods will be sold directly outside of the main CPAC lobby\, on the sidewalk area.</span></div>\n<div class="gmail_default" style="margin: 0px\; padding: 0px\; text-align: center\; font-family: arial\, sans-serif\; font-size: 13px\; position: relative\;">\n	&nbsp\;</div>\n<div class="gmail_default" style="margin: 0px\; padding: 0px\; text-align: center\; font-family: arial\, sans-serif\; font-size: 13px\; position: relative\;">\n	<span face="tahoma\, sans-serif" style="margin: 0px\; padding: 0px\; font-family: tahoma\, sans-serif\;"><span face="tahoma\, sans-serif" style="margin: 0px\; padding: 0px\;">All bake sale proceeds will be given to the Navy Yard Tragedy Family Support Fund&nbsp\;<a href="https://www.taps.org/navyyard/" style="margin: 0px\; padding: 0px\; color: rgb(17\, 85\, 204)\; font-family: &quot\;trebuchet ms&quot\;\, tahoma\, sans-serif\; font-weight: bold\;" target="_blank">https://www.taps.org/navyyard/</a><wbr style="margin: 0px\; padding: 0px\;" />\, which will provide financial support not only to this family\, but the other 11 families affected by this tragedy.</span>&nbsp\;</span></div>\n<div class="gmail_default" style="margin: 0px\; padding: 0px\; text-align: center\; font-family: arial\, sans-serif\; font-size: 13px\; position: relative\;">\n	<span face="tahoma\, sans-serif" style="margin: 0px\; padding: 0px\; font-family: tahoma\, sans-serif\;">Please help us demonstrate our support by purchasing baked goods or by simply making a cash donation at the table!</span></div>\n<div class="gmail_default" style="margin: 0px\; padding: 0px\; text-align: center\; font-family: arial\, sans-serif\; font-size: 13px\; position: relative\;">\n	<span face="tahoma\, sans-serif" style="margin: 0px\; padding: 0px\; font-family: tahoma\, sans-serif\;">If we have goods left over\, we will extend the sale!</span></div>\n
LOCATION:Cuppett Performing Arts Center
UID:e.9111.67
SEQUENCE:3
DTSTAMP:20260419T151144Z
URL:http://viennabusiness.memberzone.com/events/details/navy-yard-bakesale-at-cuppett-performing-arts-center-10-18-2013-67
END:VEVENT

END:VCALENDAR
