BEGIN:VCALENDAR
VERSION:2.0
PRODID:-//ChamberMaster//Event Calendar 2.0//EN
METHOD:PUBLISH
X-PUBLISHED-TTL:P3D
REFRESH-INTERVAL:P3D
CALSCALE:GREGORIAN
BEGIN:VEVENT
DTSTART:20131121T150000Z
DTEND:20131122T020000Z
X-MICROSOFT-CDO-ALLDAYEVENT:FALSE
SUMMARY:Hostess Serving Sale at the Artful!
DESCRIPTION:10% OFF ALL SERVING-WEAR! This includes: pottery\, glassware\, serving utensils\, wine glasses\, wine bottle trays\, and wine charms and wine bags!  If it can appear on YOUR holiday table\, it is 10% off!
X-ALT-DESC;FMTTYPE=text/html:<div style="color: gray\;">\n	<span style="color: rgb(0\, 0\, 0)\;"><span style="font: 13.6px/normal &quot\;Comic Sans MS&quot\;\, &quot\; Verdana&quot\;\, &quot\; Helvetica&quot\;\, &quot\; sans-serif&quot\;\; text-transform: none\; text-indent: 0px\; letter-spacing: normal\; word-spacing: 0px\; white-space: normal\; font-size-adjust: none\; font-stretch: normal\; background-color: rgb(255\, 235\, 164)\; -webkit-text-stroke-width: 0px\;">10% OFF ALL SERVING-WEAR! This includes: pottery\, glassware\, serving utensils\, wine glasses\, wine bottle trays\, and wine charms and wine bags! &nbsp\;If it can appear on YOUR holiday table\, it is 10% off!</span></span></div>\n
LOCATION:On the Corner of Lawyers and Church St!
UID:e.9111.79
SEQUENCE:3
DTSTAMP:20260419T115349Z
URL:http://viennabusiness.memberzone.com/events/details/hostess-serving-sale-at-the-artful-11-21-2013-79
END:VEVENT

END:VCALENDAR
