BEGIN:VCALENDAR
VERSION:2.0
PRODID:-//ChamberMaster//Event Calendar 2.0//EN
METHOD:PUBLISH
X-PUBLISHED-TTL:P3D
REFRESH-INTERVAL:P3D
CALSCALE:GREGORIAN
BEGIN:VEVENT
DTSTART:20131010T190000Z
DTEND:20131010T230000Z
X-MICROSOFT-CDO-ALLDAYEVENT:FALSE
SUMMARY:Hoppy Oktober @Blackfinn
DESCRIPTION:Hoppy Oktober!\n\n\nThis week New Belgium Brewery will be in Blackfinn introuducing guests to their infamous crafts and educating us about their pale ales & seasonals. Try some new beers & enjoy our Craft your Thursday every Thrusday night.  \n\n\n	Choose any pint of beer and pair it with a Classic or Turkey Burger for only $10!
X-ALT-DESC;FMTTYPE=text/html:<h2>\n	<span style="font-size: 14px\;">Hoppy Oktober!</span></h2>\n<br />\nThis week <span style="font-size: 14px\;">New Belgium Brewery</span> will be in<span style="font-size: 14px\;"> Blackfinn</span> introuducing guests to their infamous crafts and educating us about their pale ales &amp\; seasonals. Try some new beers &amp\; enjoy our <span style="color: rgb(0\, 0\, 0)\;"><span style="font-size: 14px\;">Craft your Thursday </span></span>every Thrusday night. &nbsp\;<br />\n<h3>\n	<var>Choose any pint of beer and pair it with a Classic or Turkey Burger for only $10!</var></h3>\n
LOCATION:Blackfinn Ameripub 2750 Gallows Road Vienna\, VA 22180
UID:e.9111.66
SEQUENCE:3
DTSTAMP:20260419T170631Z
URL:http://viennabusiness.memberzone.com/events/details/hoppy-oktober-blackfinn-10-10-2013-66
END:VEVENT

END:VCALENDAR
