BEGIN:VCALENDAR
VERSION:2.0
PRODID:-//ChamberMaster//Event Calendar 2.0//EN
METHOD:PUBLISH
X-PUBLISHED-TTL:P3D
REFRESH-INTERVAL:P3D
CALSCALE:GREGORIAN
BEGIN:VEVENT
DTSTART:20130731T000000Z
DTEND:20130731T023000Z
X-MICROSOFT-CDO-ALLDAYEVENT:FALSE
SUMMARY:Health Care Reform!
DESCRIPTION:Health Care Reform is Here\, Are YOU prepared?\n\n		\n\n		If not\, penalties\, rate increases\, and exchanges are just a few items your business will be facing. The Business Bank is partnering together with Bankers Insurance\, LLC and will be providing two seminars on Health Care Reform and how you can prepare.\n	\n		Topics covered will include:\n	\n		\n			Key elements of Health Care Reform legislation\n		\n			Compliance issues requiring your immediate attention\n		\n			Changes you will see in 2014
X-ALT-DESC;FMTTYPE=text/html:<div style="color: gray\;">\n	<p align="LEFT">\n		<span style="color: rgb(0\, 0\, 0)\;"><span style="font-size: 16px\;"><span style="font-family: times new roman\;">Health Care Reform is Here\, Are YOU prepared?<br />\n		<br />\n		If not\, penalties\, rate increases\, and exchanges are just a few items your business will be facing. The Business Bank is partnering together with Bankers Insurance\, LLC and will be providing two seminars on Health Care Reform and how you can prepare.</span></span></span></p>\n	<p>\n		<span style="color: rgb(0\, 0\, 0)\;"><span style="font-size: 16px\;"><span style="font-family: times new roman\;">Topics covered will include:</span></span></span></p>\n	<ol>\n		<li>\n			<span style="color: rgb(0\, 0\, 0)\;"><span style="font-size: 16px\;"><span style="font-family: times new roman\;">Key elements of Health Care Reform legislation</span></span></span></li>\n		<li>\n			<span style="color: rgb(0\, 0\, 0)\;"><span style="font-size: 16px\;"><span style="font-family: times new roman\;">Compliance issues requiring your immediate attention</span></span></span></li>\n		<li>\n			<span style="color: rgb(0\, 0\, 0)\;"><span style="font-size: 16px\;"><span style="font-family: times new roman\;">Changes you will see in 2014</span></span></span></li>\n	</ol>\n</div>\n
LOCATION:The Business Bank 133 maple Avenue East Vienna\, VA 22180
UID:e.9111.15
SEQUENCE:3
DTSTAMP:20260419T203649Z
URL:http://viennabusiness.memberzone.com/events/details/health-care-reform-07-30-2013-15
END:VEVENT

END:VCALENDAR
