BEGIN:VCALENDAR
VERSION:2.0
PRODID:-//ChamberMaster//Event Calendar 2.0//EN
METHOD:PUBLISH
X-PUBLISHED-TTL:P3D
REFRESH-INTERVAL:P3D
CALSCALE:GREGORIAN
BEGIN:VEVENT
DTSTART:20130820T213000Z
DTEND:20130820T233000Z
X-MICROSOFT-CDO-ALLDAYEVENT:FALSE
SUMMARY:HAPPY HOUR MIXER - WHOLE FOODS!
DESCRIPTION:Join us for a bite and a beverage!\n\n\n\nCome find out what the VBA can do for YOUR business and OUR community!
X-ALT-DESC;FMTTYPE=text/html:Join us for a bite and a beverage!<br />\n<br />\nCome find out what the VBA can do for YOUR business and OUR community!
LOCATION:143 Maple Ave E Vienna VA 22180
UID:e.9111.3
SEQUENCE:3
DTSTAMP:20260419T185819Z
URL:http://viennabusiness.memberzone.com/events/details/happy-hour-mixer-whole-foods-08-20-2013-3
END:VEVENT

END:VCALENDAR
