BEGIN:VCALENDAR
VERSION:2.0
PRODID:-//ChamberMaster//Event Calendar 2.0//EN
METHOD:PUBLISH
X-PUBLISHED-TTL:P3D
REFRESH-INTERVAL:P3D
CALSCALE:GREGORIAN
BEGIN:VEVENT
DTSTART:20130924T213000Z
DTEND:20130924T233000Z
X-MICROSOFT-CDO-ALLDAYEVENT:FALSE
SUMMARY:HAPPY HOUR MIXER-Kiln and Co.
DESCRIPTION:Get to know Kiln and Co.!\n\n\n\nJoin us for a bite\, a beverage and some networking!\n\n\n\nCome find out what the VBA can do for YOUR business and OUR community!
X-ALT-DESC;FMTTYPE=text/html:<strong>Get to know Kiln and Co.!</strong><br />\n<br />\nJoin us for a bite\, a beverage and some networking!<br />\n<br />\nCome find out what the VBA can do for YOUR business and OUR community!
LOCATION:132 Church Street Vienna VA
UID:e.9111.5
SEQUENCE:3
DTSTAMP:20260419T151840Z
URL:http://viennabusiness.memberzone.com/events/details/happy-hour-mixer-kiln-and-co-09-24-2013-5
END:VEVENT

END:VCALENDAR
