BEGIN:VCALENDAR
VERSION:2.0
PRODID:-//ChamberMaster//Event Calendar 2.0//EN
METHOD:PUBLISH
X-PUBLISHED-TTL:P3D
REFRESH-INTERVAL:P3D
CALSCALE:GREGORIAN
BEGIN:VEVENT
DTSTART:20131222T210000Z
DTEND:20131222T233000Z
X-MICROSOFT-CDO-ALLDAYEVENT:FALSE
SUMMARY:Handel's Messiah Concert\, Sing-a-long and Reception!
DESCRIPTION:Led by the Vienna Presbyterian Church Community Orchestra and Chorus\, with a 40-member Chorus\, 20 instrumentalists and 4 soloists\, you will experience Part I of the Messiah plus the Hallelujah Chorus from Part II.\n\n\n\nChildcare will be provided.  Please contact Elaine Wright at elaine.wright@viennapres.org.\n\n\n\nPlease register by Saturday\, December 21st online at http://www.viennapres.org/messiahconcert.
X-ALT-DESC;FMTTYPE=text/html:Led by the Vienna Presbyterian Church Community Orchestra and Chorus\, with a 40-member Chorus\, 20 instrumentalists and 4 soloists\, you will experience Part I of the Messiah plus the Hallelujah Chorus from Part II.<br />\n<br />\nChildcare will be provided. &nbsp\;Please contact Elaine Wright at elaine.wright@viennapres.org.<br />\n<br />\nPlease register by Saturday\, December 21st online at http://www.viennapres.org/messiahconcert.
LOCATION:Vienna Presbyterian Church\, 124 Park St.\, NE\, Vienna\, VA 22180
UID:e.9111.89
SEQUENCE:3
DTSTAMP:20260419T115302Z
URL:http://viennabusiness.memberzone.com/events/details/handel-s-messiah-concert-sing-a-long-and-reception-12-22-2013-89
END:VEVENT

END:VCALENDAR
