BEGIN:VCALENDAR
VERSION:2.0
PRODID:-//ChamberMaster//Event Calendar 2.0//EN
METHOD:PUBLISH
X-PUBLISHED-TTL:P3D
REFRESH-INTERVAL:P3D
CALSCALE:GREGORIAN
BEGIN:VEVENT
DTSTART:20131124T170000Z
DTEND:20131124T210000Z
X-MICROSOFT-CDO-ALLDAYEVENT:FALSE
SUMMARY:Event at Vienna Art Society
DESCRIPTION:Treasury of Art Shows continues from noon to 4 p.m.\n\nLast chance to see the wonderful juried art
X-ALT-DESC;FMTTYPE=text/html:Treasury of Art Shows continues from noon to 4 p.m.<br />\nLast chance to see the wonderful juried art
LOCATION:Vienna Community Center
UID:e.9111.52
SEQUENCE:3
DTSTAMP:20260419T115349Z
URL:http://viennabusiness.memberzone.com/events/details/event-at-vienna-art-society-11-24-2013-52
END:VEVENT

END:VCALENDAR
