BEGIN:VCALENDAR
VERSION:2.0
PRODID:-//ChamberMaster//Event Calendar 2.0//EN
METHOD:PUBLISH
X-PUBLISHED-TTL:P3D
REFRESH-INTERVAL:P3D
CALSCALE:GREGORIAN
BEGIN:VEVENT
DTSTART:20130904T140000Z
DTEND:20130904T160000Z
X-MICROSOFT-CDO-ALLDAYEVENT:FALSE
SUMMARY:Event at Shepherd's Center of Oakton-Vienna
DESCRIPTION:Shepherd's Center of Oakton-Vienna and Fairfax County's You Can! Live Well\, Virginia! is offering a new Self-Management Program that is specifcally designed to teach and support older adults with diabetes to become empowered self-managers for a healthier and happier life! Join us and learn how to manage your diabetes and live well!
X-ALT-DESC;FMTTYPE=text/html:Shepherd&#39\;s Center of Oakton-Vienna and Fairfax County&#39\;s You Can! Live Well\, Virginia! is offering a new Self-Management Program that is specifcally designed to teach and support older adults with diabetes to become empowered self-managers for a healthier and happier life! Join us and learn how to manage your diabetes and live well!
LOCATION:This series of workshops will meet at Bruen Chapel United Methodist Church located at 3035 Cedar Lane\, Fairfax\, VA 22031
UID:e.9111.24
SEQUENCE:3
DTSTAMP:20260419T170723Z
URL:http://viennabusiness.memberzone.com/events/details/event-at-shepherd-s-center-of-oakton-vienna-09-04-2013-24
END:VEVENT

END:VCALENDAR
