BEGIN:VCALENDAR
VERSION:2.0
PRODID:-//ChamberMaster//Event Calendar 2.0//EN
METHOD:PUBLISH
X-PUBLISHED-TTL:P3D
REFRESH-INTERVAL:P3D
CALSCALE:GREGORIAN
BEGIN:VEVENT
DTSTART:20130926T213000Z
DTEND:20130926T234000Z
X-MICROSOFT-CDO-ALLDAYEVENT:FALSE
SUMMARY:Elements Therapeutic Massage - GRAND OPENING!
DESCRIPTION:Please join the VBA and the Town of Vienna in welcoming Elements Therapeutic Massage to Vienna!\n\n\n\nMeet owner Renee Soulliard and her wonderful team\, and find out how a customized massage can change your life!
X-ALT-DESC;FMTTYPE=text/html:Please join the VBA and the Town of Vienna in welcoming Elements Therapeutic Massage to Vienna!<br />\n<br />\nMeet owner Renee Soulliard and her wonderful team\, and find out how a customized massage can change your life!
LOCATION:122 Maple Avenue West\, Vienna\, VA 22180 (located in near Panara Bread and Tuesday Morning)
UID:e.9111.53
SEQUENCE:3
DTSTAMP:20260419T151753Z
URL:http://viennabusiness.memberzone.com/events/details/elements-therapeutic-massage-grand-opening-09-26-2013-53
END:VEVENT

END:VCALENDAR
