BEGIN:VCALENDAR
VERSION:2.0
PRODID:-//ChamberMaster//Event Calendar 2.0//EN
METHOD:PUBLISH
X-PUBLISHED-TTL:P3D
REFRESH-INTERVAL:P3D
CALSCALE:GREGORIAN
BEGIN:VEVENT
DTSTART:20130918T223000Z
DTEND:20130919T003000Z
X-MICROSOFT-CDO-ALLDAYEVENT:FALSE
SUMMARY:CSP Financial Group @ Sweet City Desserts!
DESCRIPTION:NETWORKING & FINANCIAL EDUCATION EVENT\n\n\n\nJoin us for this special event at Sweet City Desserts!\n\nCome to network\, learn and enjoy specialty food & gelato!\n\n\n\nPlease RSVP by 9/16/13.\n\n\n\nSeating is Limited.\n\n\n\nRegister now!  http://conta.cc/19cM6i1
X-ALT-DESC;FMTTYPE=text/html:NETWORKING &amp\; FINANCIAL EDUCATION EVENT<br />\n<br />\nJoin us for this special event at Sweet City Desserts!<br />\nCome to network\, learn and enjoy specialty food &amp\; gelato!<br />\n<br />\nPlease RSVP by 9/16/13.<br />\n<br />\nSeating is Limited.<br />\n<br />\nRegister now!&nbsp\; <a href="http://conta.cc/19cM6i1" rel="nofollow nofollow" target="_blank">http://conta.cc/19cM6i1</a><br />\n<br />\n<br />\n<br />\n<br />\n
LOCATION:Sweet City Desserts 131 Maple Ave. W Vienna\, VA 22180
UID:e.9111.28
SEQUENCE:3
DTSTAMP:20260419T170723Z
URL:http://viennabusiness.memberzone.com/events/details/csp-financial-group-sweet-city-desserts-09-18-2013-28
END:VEVENT

END:VCALENDAR
