BEGIN:VCALENDAR
VERSION:2.0
PRODID:-//ChamberMaster//Event Calendar 2.0//EN
METHOD:PUBLISH
X-PUBLISHED-TTL:P3D
REFRESH-INTERVAL:P3D
CALSCALE:GREGORIAN
BEGIN:VEVENT
DTSTART:20131202T230000Z
DTEND:20131203T020000Z
X-MICROSOFT-CDO-ALLDAYEVENT:FALSE
SUMMARY:CHURCH STREET STROLL!
DESCRIPTION:Don't miss the wonderful Vienna holiday tradition!!\n\n\n\nStrolling Carolers!\n\nTons of singing and dancing on the stage across from the Freeman Store!\n\nHot chocolate and toasted marshmallows!\n\nBonfires!\n\nPetting zoo!\n\nLate night shopping on Church Street!\n\nAnd of course...SANTA!!!
X-ALT-DESC;FMTTYPE=text/html:Don&#39\;t miss the wonderful Vienna holiday tradition!!<br />\n<br />\nStrolling Carolers!<br />\nTons of singing and dancing on the stage across from the Freeman Store!<br />\nHot chocolate and toasted marshmallows!<br />\nBonfires!<br />\nPetting zoo!<br />\nLate night shopping on Church Street!<br />\nAnd of course...SANTA!!!
LOCATION:Historic Church Street Vienna!
UID:e.9111.76
SEQUENCE:3
DTSTAMP:20260419T115302Z
URL:http://viennabusiness.memberzone.com/events/details/church-street-stroll-12-02-2013-76
END:VEVENT

END:VCALENDAR
