BEGIN:VCALENDAR
VERSION:2.0
PRODID:-//ChamberMaster//Event Calendar 2.0//EN
METHOD:PUBLISH
X-PUBLISHED-TTL:P3D
REFRESH-INTERVAL:P3D
CALSCALE:GREGORIAN
BEGIN:VEVENT
DTSTART;VALUE=DATE:20130708
DTEND;VALUE=DATE:20130709
TRANSP:TRANSPARENT
X-MICROSOFT-CDO-ALLDAYEVENT:TRUE
SUMMARY:ChamberMaster test event
DESCRIPTION:This is a ChamberMaster test
X-ALT-DESC;FMTTYPE=text/html:This is a ChamberMaster test<br />\n
LOCATION:
UID:e.9111.21
SEQUENCE:3
DTSTAMP:20260419T204136Z
URL:http://viennabusiness.memberzone.com/events/details/chambermaster-test-event-07-08-2013-21
END:VEVENT

END:VCALENDAR
