BEGIN:VCALENDAR
VERSION:2.0
PRODID:-//ChamberMaster//Event Calendar 2.0//EN
METHOD:PUBLISH
X-PUBLISHED-TTL:P3D
REFRESH-INTERVAL:P3D
CALSCALE:GREGORIAN
BEGIN:VEVENT
DTSTART:20130721T160000Z
DTEND:20130721T190000Z
X-MICROSOFT-CDO-ALLDAYEVENT:FALSE
SUMMARY:Cat Adoption for Homeless Animals Rescue Team
DESCRIPTION:Looking for a forever feline friend?  Come to Kiln and Co. between 12-3pm and meet some of the homeless Kitties currently in the care of H.A.R.T.
X-ALT-DESC;FMTTYPE=text/html:Looking for a forever feline friend?&nbsp\; Come to Kiln and Co. between 12-3pm and meet some of the homeless Kitties currently in the care of H.A.R.T.
LOCATION:132 Church Street\, Vienna VA
UID:e.9111.20
SEQUENCE:3
DTSTAMP:20260419T203649Z
URL:http://viennabusiness.memberzone.com/events/details/cat-adoption-for-homeless-animals-rescue-team-07-21-2013-20
END:VEVENT

END:VCALENDAR
