BEGIN:VCALENDAR
VERSION:2.0
PRODID:-//ChamberMaster//Event Calendar 2.0//EN
METHOD:PUBLISH
X-PUBLISHED-TTL:P3D
REFRESH-INTERVAL:P3D
CALSCALE:GREGORIAN
BEGIN:VEVENT
DTSTART:20131105T133000Z
DTEND:20131105T153000Z
X-MICROSOFT-CDO-ALLDAYEVENT:FALSE
SUMMARY:CANCELLED-Managing Cyber Security -Hosted by The Business Bank
DESCRIPTION:Concerned about cyber security? You should be.\n\n	A survey conducted by the Ponemon Institute found that 55% of small businesses in the U.S. have experienced a data breach and 53% have had multiple breaches. How are you addressing your risks of a breach? The Business Bank\, in conjunction with Leros Technologies Corporation and Banker Insurance\, invite you to a seminar dedicated to cyber risks and best practices for protecting yourself and your business.\n\n	Topics Covered will Include:\n\n	\n\n	Preventing a cyber attack and protecting your valuable information.\n\n	\n\n	Preparing for the worst. The financial impact from a cyber attack could put your company out of business.\n\n	\n\n	A look into cyber liability insurance coverage and how it can be used to properly protect your company.\n\n	 \n\n	Please Join Us Tuesday\, November 5\, 2013 at 8:30 a.m.\n\n	at The Business Bank\n\n	133 Maple Avenue East\, Vienna\, VA 22180\n\n	Continental Breakfast will be Served\n\n	Please contact Tracy Murphy at (703) 938-5751 ext. 4415 or tmurphy@tbbva.com to reserve a seat!
X-ALT-DESC;FMTTYPE=text/html:<p>\n	<span style="color: rgb(255\, 0\, 0)\;"><span style="font-size: 16px\;"><span style="font-family: times new roman\;">Concerned about cyber security? </span></span></span><b><font face="Calibri\,Calibri" size="5"><font face="Calibri\,Calibri" size="5"><span style="color: rgb(255\, 0\, 0)\;"><span style="font-size: 16px\;"><span style="font-family: times new roman\;">You should be.</span></span></span></font></font></b></p>\n<p>\n	<b><font face="Calibri\,Calibri" size="5"><font face="Calibri\,Calibri" size="5"><span style="font-size: 16px\;">A survey conducted by the Ponemon Institute found that 55% of small businesses in the U.S. have experienced a data breach and 53% have had multiple breaches. How are you addressing your risks of a breach? The Business Bank\, in conjunction with Leros Technologies Corporation and Banker Insurance\, invite you to a seminar dedicated to cyber risks and best practices for protecting yourself and your </span><span style="font-size: 16px\;"><font face="Calibri\,Calibri"><font face="Calibri\,Calibri">business.</font></font></span></font></font></b></p>\n<p>\n	<b><font face="Calibri\,Calibri" size="5"><font face="Calibri\,Calibri" size="5"><span style="font-size: 16px\;"><i><font face="Calibri\,Calibri"><font face="Calibri\,Calibri">Topics Covered will Include:</font></font></i><br />\n	<br />\n	<span style="font-family: times new roman\;"><i>Preventing a cyber attack and protecting your valuable information.</i><br />\n	<br />\n	<i>Preparing for the worst. The financial impact from a cyber attack could put your company out of business.</i><br />\n	<br />\n	<i>A look into cyber liability insurance coverage and how it can be used to properly protect your company.</i></span></span></font></font></b><br />\n	&nbsp\;</p>\n<p align="CENTER">\n	<b><font face="Calibri\,Calibri" size="5"><font face="Calibri\,Calibri" size="5"><span style="font-size: 16px\;"><span style="font-family: times new roman\;"><i><b><font size="3">Please Join Us Tuesday\, November 5\, 2013 at 8:30 a.m.</font></b></i></span></span></font></font></b></p>\n<p align="CENTER">\n	<b><font face="Calibri\,Calibri" size="5"><font face="Calibri\,Calibri" size="5"><span style="font-size: 16px\;"><span style="font-family: times new roman\;"><i><font face="Calibri\,Calibri" size="3"><font face="Calibri\,Calibri" size="3">at The Business Bank</font></font></i></span></span></font></font></b></p>\n<p align="CENTER">\n	<b><font face="Calibri\,Calibri" size="5"><font face="Calibri\,Calibri" size="5"><span style="font-size: 16px\;"><span style="font-family: times new roman\;"><i><font face="Calibri\,Calibri" size="3"><font face="Calibri\,Calibri" size="3">133 Maple Avenue East\, Vienna\, VA 22180</font></font></i></span></span></font></font></b></p>\n<p align="CENTER">\n	<b><font face="Calibri\,Calibri" size="5"><font face="Calibri\,Calibri" size="5"><span style="font-size: 16px\;"><span style="font-family: times new roman\;"><i><i><font face="Calibri Light\,Calibri Light" size="3"><font face="Calibri Light\,Calibri Light" size="3">Continental Breakfast will be Serve</font></font></i><i><font face="Calibri Light\,Calibri Light" size="3"><font face="Calibri Light\,Calibri Light" size="3">d</font></font></i></i></span></span></font></font></b></p>\n<p>\n	<b><font face="Calibri\,Calibri" size="5"><font face="Calibri\,Calibri" size="5"><span style="font-size: 16px\;"><span style="font-family: times new roman\;"><i><b><font size="3">Please contact Tracy Murphy at (703) 938-5751 ext. 4415 or tmurphy@tbbva.com to reserve a seat!</font></b></i></span></span></font></font></b></p>\n<p>\n	<b><font face="Calibri\,Calibri" size="5"><font face="Calibri\,Calibri" size="5">&nbsp\;</font></font></b></p>\n<p>\n	<br />\n	&nbsp\;</p>\n<p>\n	&nbsp\;</p>\n<p>\n	&nbsp\;</p>\n<p>\n	&nbsp\;</p>\n
LOCATION:Please Join Us Tuesday\, November 5\, 2013 at 8:30 a.m. at The Business Bank 133 Maple Avenue East\, Vienna\, VA 22180
UID:e.9111.71
SEQUENCE:3
DTSTAMP:20260419T115348Z
URL:http://viennabusiness.memberzone.com/events/details/cancelled-managing-cyber-security-hosted-by-the-business-bank-11-05-2013-71
END:VEVENT

END:VCALENDAR
