BEGIN:VCALENDAR
VERSION:2.0
PRODID:-//ChamberMaster//Event Calendar 2.0//EN
METHOD:PUBLISH
X-PUBLISHED-TTL:P3D
REFRESH-INTERVAL:P3D
CALSCALE:GREGORIAN
BEGIN:VEVENT
DTSTART:20130720T160000Z
DTEND:20130721T020000Z
X-MICROSOFT-CDO-ALLDAYEVENT:FALSE
SUMMARY:Caffe Amouri 3rd Anniversay Party
DESCRIPTION:Join Caffe Amouri as they celebrate three years as Vienna's Community Coffee Spot!\n\n\n\nGreat local music and free hot dogs in the parking lot!!
X-ALT-DESC;FMTTYPE=text/html:Join Caffe Amouri as they celebrate three years as Vienna&#39\;s Community Coffee Spot!<br />\n<br />\nGreat local music and free hot dogs in the parking lot!!
LOCATION:107 Church Street NE Vienna VA
UID:e.9111.19
SEQUENCE:3
DTSTAMP:20260419T211450Z
URL:http://viennabusiness.memberzone.com/events/details/caffe-amouri-3rd-anniversay-party-07-20-2013-19
END:VEVENT

END:VCALENDAR
