BEGIN:VCALENDAR
VERSION:2.0
PRODID:-//ChamberMaster//Event Calendar 2.0//EN
METHOD:PUBLISH
X-PUBLISHED-TTL:P3D
REFRESH-INTERVAL:P3D
CALSCALE:GREGORIAN
BEGIN:VEVENT
DTSTART:20130706T210000Z
DTEND:20130707T030000Z
X-MICROSOFT-CDO-ALLDAYEVENT:FALSE
SUMMARY:Block Party-Milestones in Vienna!
DESCRIPTION:Celebrate Small Business and Friendship in the Town of Vienna!\nJoin us for this GREAT Milestone Community Block Party!\n\nLive Music! Bouncy House\, Food\, Beverages\,  and Loads of Community Friends and Local Businesses!\n\n\n\nSponsored by VBA\, BNI\, Rotary Club\, Concord Lodge and the Welcoming neighbors of Manvell Road!\n\n\n\nLive Music by Fat Chance Band!
X-ALT-DESC;FMTTYPE=text/html:<div style="text-align: center\;">\n	<span style="font-size: 14px\;"><strong>Celebrate Small Business and Friendship in the Town of Vienna!</strong></span></div>\nJoin us for this GREAT Milestone Community Block Party!<br />\nLive Music! Bouncy House\, Food\, Beverages\,&nbsp\; and Loads of Community Friends and Local Businesses!<br />\n<br />\nSponsored by VBA\, BNI\, Rotary Club\, Concord Lodge and the Welcoming neighbors of Manvell Road!<br />\n<br />\nLive Music by Fat Chance Band!<br />\n
LOCATION:Manvell Road\, Vienna Virginia\, 22180 We are blocking off the road for this shindig! Parking is available on nearby streets\, or at the Vienna Community Center!
UID:e.9111.16
SEQUENCE:3
DTSTAMP:20260419T222108Z
URL:http://viennabusiness.memberzone.com/events/details/block-party-milestones-in-vienna-07-06-2013-16
END:VEVENT

END:VCALENDAR
