BEGIN:VCALENDAR
VERSION:2.0
PRODID:-//ChamberMaster//Event Calendar 2.0//EN
METHOD:PUBLISH
X-PUBLISHED-TTL:P3D
REFRESH-INTERVAL:P3D
CALSCALE:GREGORIAN
BEGIN:VEVENT
DTSTART:20131219T220000Z
DTEND:20131220T020000Z
X-MICROSOFT-CDO-ALLDAYEVENT:FALSE
SUMMARY:ARTFUL SIP-N-SHOP WITH DIVYA TALWAR OF MYSTIC LINES JEWELRY
DESCRIPTION:BITES AND BEVERAGES WITH:\n	\n		DIVYA TALWAR OF MYSTIC LINE JEWELRY!\n	\n		20% off your purchase from Mystic Lines when you buy 2 or more items!
X-ALT-DESC;FMTTYPE=text/html:<div style="color: gray\;">\n	<p comic="" sans="">\n		<span style="font-size: 14px\;"><span style="font-family: comic sans ms\;"><strong style="font-size: 10pt\;">BITES AND BEVERAGES WITH:</strong></span></span></p>\n	<p comic="" sans="">\n		<span style="font-size: 14px\;"><span style="font-family: comic sans ms\;">DIVYA TALWAR OF MYSTIC LINE JEWELRY!</span></span></p>\n	<p comic="" sans="">\n		<strong><span style="font-size: 14px\;"><span style="font-family: comic sans ms\;">20% off your purchase from Mystic Lines when you buy 2 or more items!</span></span></strong><br />\n		<br />\n		&nbsp\;</p>\n</div>\n
LOCATION:145b Church Street Vienna! Located on the corner of Church Street and Lawyers Road! (cute white building\, lots of lights!)
UID:e.9111.83
SEQUENCE:3
DTSTAMP:20260419T115438Z
URL:http://viennabusiness.memberzone.com/events/details/artful-sip-n-shop-with-divya-talwar-of-mystic-lines-jewelry-12-19-2013-83
END:VEVENT

END:VCALENDAR
