BEGIN:VCALENDAR
VERSION:2.0
PRODID:-//ChamberMaster//Event Calendar 2.0//EN
METHOD:PUBLISH
X-PUBLISHED-TTL:P3D
REFRESH-INTERVAL:P3D
CALSCALE:GREGORIAN
BEGIN:VEVENT
DTSTART:20131205T230000Z
DTEND:20131206T010000Z
X-MICROSOFT-CDO-ALLDAYEVENT:FALSE
SUMMARY:ARTFUL- SIP-N-SHOP AND MEET LISA MARIE ADAMS!
DESCRIPTION:BITES AND BEVERAGES WITH:\n	\n		 ALL THINGS ECLECTIC BY LISA MARIE ADAMS\n	\n		10% off of all Lisa Marie items\, including\, hats\, scarves\, mittens\, pottery\, dog ties\, colorful windows\, wreaths\, and so much more!  Enter to win an original pottery bowl from Lisa Marie (no purchase necessary)!
X-ALT-DESC;FMTTYPE=text/html:<div style="color: gray\;">\n	<p comic="" sans="">\n		<strong>BITES AND BEVERAGES WITH:</strong></p>\n	<p comic="" sans="">\n		&nbsp\;ALL THINGS ECLECTIC BY LISA MARIE ADAMS</p>\n	<p comic="" sans="">\n		10% off of all Lisa Marie items\, including\, hats\, scarves\, mittens\, pottery\, dog ties\, colorful windows\, wreaths\, and so much more! &nbsp\;Enter to win an original pottery bowl from Lisa Marie (no purchase necessary)!</p>\n</div>\n
LOCATION:145b Church Street. (corner of lawyers and Church. Look for the lighted up building on the corner!
UID:e.9111.81
SEQUENCE:3
DTSTAMP:20260419T115424Z
URL:http://viennabusiness.memberzone.com/events/details/artful-sip-n-shop-and-meet-lisa-marie-adams-12-05-2013-81
END:VEVENT

END:VCALENDAR
