BEGIN:VCALENDAR
VERSION:2.0
PRODID:-//ChamberMaster//Event Calendar 2.0//EN
METHOD:PUBLISH
X-PUBLISHED-TTL:P3D
REFRESH-INTERVAL:P3D
CALSCALE:GREGORIAN
BEGIN:VEVENT
DTSTART;VALUE=DATE:20130921
DTEND;VALUE=DATE:20130922
TRANSP:TRANSPARENT
X-MICROSOFT-CDO-ALLDAYEVENT:TRUE
SUMMARY:Anything Goes! Around Town Art Show presented by the VAS
DESCRIPTION:The Art Center will have a show called "Anything Goes" during the month of September and from September 21 through September 29th you will see many artists around Vienna painting the local scenes "Plein Air" which means on site. All those paintings will be displayed in the Art Center during the month of October. They will be judged by our local leaders and a reception to meet the artists will be held on Saturday\, October 5th (same day as Oktoberfest) from 3 to 5\, so stop by for snacks and to view the finished works.
X-ALT-DESC;FMTTYPE=text/html:The Art Center will have a show called &quot\;Anything Goes&quot\; during the month of September and from September 21 through September 29th you will see many artists around Vienna painting the local scenes &quot\;Plein Air&quot\; which means on site. All those paintings will be displayed in the Art Center during the month of October. They will be judged by our local leaders and a reception to meet the artists will be held on Saturday\, October 5th (same day as Oktoberfest) from 3 to 5\, so stop by for snacks and to view the finished works.
LOCATION:All Around Vienna!
UID:e.9111.49
SEQUENCE:3
DTSTAMP:20260419T170631Z
URL:http://viennabusiness.memberzone.com/events/details/anything-goes-around-town-art-show-presented-by-the-vas-09-21-2013-49
END:VEVENT

END:VCALENDAR
