BEGIN:VCALENDAR
VERSION:2.0
PRODID:-//ChamberMaster//Event Calendar 2.0//EN
METHOD:PUBLISH
X-PUBLISHED-TTL:P3D
REFRESH-INTERVAL:P3D
CALSCALE:GREGORIAN
BEGIN:VEVENT
DTSTART:20131020T130000Z
DTEND:20131020T170000Z
X-MICROSOFT-CDO-ALLDAYEVENT:FALSE
SUMMARY:5K Race benefitting the Wounded Warrior Project-Sponsored by Pure Chiropractic
DESCRIPTION:Attention Runners\, Veterans\, and their families: Help support a great cause!\n\n	\n\n	Pure Chiropractic sponsors 5K Race benefitting the Wounded Warrior Project (WWP)\n\n	\n\n	During National Chiropractic Health Month this October\, Dr. Lemuel of Vienna\, VA is promoting the importance of joint health and the vital role physical activity plays in keeping joints healthy and pain free. This year's theme "Get Vertical" focuses on getting off the couch or out of the office chair\, and standing or moving more each day.  \n\n	\n\n	To help people "Get Vertical"\, we are sponsoring a 5K Run/Walk in Vienna on the W&OD Trail Sunday\, October 20th at 9am benefitting the Wounded Warrior Project (WWP). The WWP serves veterans and service members who incurred a physical or mental injury\, illness\, or wound\, co-incident to their military service on or after September 11\, 2001 and their families.\n\n	\n\n	I support the WWP because I see this organization as a vital resource to help veterans integrate positively back into their communities. The Pure Chiropractic 5K Race/Walk benefitting the Wounded Warrior Project is a great opportunity to get healthy and give back to those who have served our country. We appreciate your support. Simply\, go to www.purechiropractic.com and register for the 5K Run/Walk benefitting the WWP
X-ALT-DESC;FMTTYPE=text/html:<div style="color: gray\;">\n	<span style="font-size: 16px\;"><span style="font-family: times new roman\;"><span style="color: rgb(0\, 0\, 0)\;"><strong>Attention Runners\, Veterans\, and their families: Help support a great cause!</strong><br />\n	<br />\n	<strong>Pure Chiropractic sponsors 5K Race benefitting the Wounded Warrior Project (WWP)</strong></span></span></span><br />\n	<br />\n	<span style="color: rgb(0\, 0\, 0)\;"><span style="font-size: 10pt\;"><span style="font-family: arial\,sans-serif\;">During National Chiropractic Health Month this October\, Dr. Lemuel of Vienna\, VA is promoting the importance of joint health and the vital role physical activity plays in keeping joints healthy and pain free. This year&rsquo\;s theme&mdash\;&ldquo\;Get Vertical&rdquo\;&mdash\;focuses on getting off the couch or out of the office chair\, and standing or moving more each day.&nbsp\; </span></span><br />\n	<br />\n	<span style="font-size: 10pt\;"><span style="font-family: arial\,sans-serif\;">To help people &ldquo\;Get Vertical&rdquo\;\, we are sponsoring a 5K Run/Walk in Vienna on the W&amp\;OD Trail Sunday\, October 20<sup>th</sup> at 9am benefitting the Wounded Warrior Project (WWP). The </span><span style="background: white\;">WWP serves veterans and service members who incurred a physical or mental injury\, illness\, or wound\, co-incident to their military service on or after September 11\, 2001 and their families.<br />\n	<br />\n	<span style="font-family: &quot\;Arial&quot\;\,&quot\;sans-serif&quot\;\; font-size: 10pt\; mso-fareast-font-family: &quot\;MS Mincho&quot\;\; mso-ansi-language: EN-US\; mso-fareast-language: EN-US\; mso-bidi-language: AR-SA\;"><font color="#000000">I support the WWP because I see this organization as a vital resource to help veterans integrate positively back into their communities. The Pure Chiropractic 5K Race/Walk benefitting the Wounded Warrior Project is a great opportunity to get healthy and give back to those who have served our country. We appreciate your support. Simply\, go to </font><a href="http://www.purechiropractic.com/"><font color="#0000ff">www.purechiropractic.com</font></a><font color="#000000"> and register for the 5K Run/Walk benefitting the WWP</font></span></span></span></span><br />\n	<br />\n	<br />\n	<br />\n	&nbsp\;</div>\n
LOCATION:W&OD Trail in Vienna
UID:e.9111.64
SEQUENCE:3
DTSTAMP:20260419T170631Z
URL:http://viennabusiness.memberzone.com/events/details/5k-race-benefitting-the-wounded-warrior-project-sponsored-by-pure-chiropractic-10-20-2013-64
END:VEVENT

END:VCALENDAR
